BEGIN:VCALENDAR
VERSION:2.0
PRODID:-//Keysborough Equestrian Club - ECPv6.15.20//NONSGML v1.0//EN
CALSCALE:GREGORIAN
METHOD:PUBLISH
X-ORIGINAL-URL:https://kecriders.com.au
X-WR-CALDESC:Events for Keysborough Equestrian Club
REFRESH-INTERVAL;VALUE=DURATION:PT1H
X-Robots-Tag:noindex
X-PUBLISHED-TTL:PT1H
BEGIN:VTIMEZONE
TZID:UTC
BEGIN:STANDARD
TZOFFSETFROM:+0000
TZOFFSETTO:+0000
TZNAME:UTC
DTSTART:20200101T000000
END:STANDARD
END:VTIMEZONE
BEGIN:VEVENT
DTSTART;VALUE=DATE:20211205
DTEND;VALUE=DATE:20211206
DTSTAMP:20260421T133640
CREATED:20211030T044713Z
LAST-MODIFIED:20211030T100814Z
UID:5566-1638662400-1638748799@kecriders.com.au
SUMMARY:Manuela McLean at Ambrosha Park
DESCRIPTION:KEC is holding our Xmas rally on Sunday 5th December with the very popular Manuela McLean.\n\n\nManuela is a NCAS Level 2 Dressage Specialist Coach and is the Co-Director of Equitation Science International. Her specialty is improving the rider’s posture and balance. She has developed multiple techniques for riders at all levels to improve their training.\n\n\nAmbrosha Park in Bangholme will be our venue for the day. Morning and Afternoon sessions will be available combining groundwork and a private lesson.\nCost $60 for a single lesson or $100 for both ground and ridden. It is your choice.\n\n\nWe will also have our Annual Club AGM at 11:30 until 12:00.\nPlease bring your cards for stamping and a Christmas Feast will be held directly after the AGM \n\n\nAs per venue rules we ask that you QR code on arrival and your double vaccination status is required.\n\nBOOK HERE
URL:https://kecriders.com.au/event/manumclean/
LOCATION:Ambrosha Park\, 207 bangholme rd\, Bangholme\, VICTORIA AUSTRALIA
ATTACH;FMTTYPE=image/jpeg:https://kecriders.com.au/wp-content/uploads/2021/10/247447052_4780551171956525_7442015462517405900_n.jpg
ORGANIZER;CN="Keysborough Equestrian Club":MAILTO:kecriders@gmail.com
END:VEVENT
END:VCALENDAR