BEGIN:VCALENDAR
VERSION:2.0
PRODID:-//Keysborough Equestrian Club - ECPv6.15.20//NONSGML v1.0//EN
CALSCALE:GREGORIAN
METHOD:PUBLISH
X-ORIGINAL-URL:https://kecriders.com.au
X-WR-CALDESC:Events for Keysborough Equestrian Club
REFRESH-INTERVAL;VALUE=DURATION:PT1H
X-Robots-Tag:noindex
X-PUBLISHED-TTL:PT1H
BEGIN:VTIMEZONE
TZID:UTC
BEGIN:STANDARD
TZOFFSETFROM:+0000
TZOFFSETTO:+0000
TZNAME:UTC
DTSTART:20210101T000000
END:STANDARD
END:VTIMEZONE
BEGIN:VEVENT
DTSTART;TZID=UTC:20220320T080000
DTEND;TZID=UTC:20220320T170000
DTSTAMP:20260421T084613
CREATED:20220222T114256Z
LAST-MODIFIED:20220222T114256Z
UID:5595-1647763200-1647795600@kecriders.com.au
SUMMARY:Rebecca Haythorpe Rally
DESCRIPTION:March 20 2022\nRebecca Haythorpe from Team Haythorpe Dressage. Based on the Mornington Peninsula\, Rebecca is a successful FEI dressage competitor/coach. Bringing a wealth of knowledge from many years of experience at top stables in both Australia and Germany. With a proven passion for helping riders of any level/age achieve their goals.\n\n\n\n\n\nCost is $70 for 45 min lesson.\n\nTwo Venues\nAmbrosha Park & Silverdene – you choose!\n\n\n\n\n\nPlease book here
URL:https://kecriders.com.au/event/bechaythorpe/
LOCATION:Ambrosha Park\, 207 bangholme rd\, Bangholme\, VICTORIA AUSTRALIA
ATTACH;FMTTYPE=image/jpeg:https://kecriders.com.au/wp-content/uploads/2022/02/273631286_238500388479801_2894393442899766640_n.jpg
END:VEVENT
END:VCALENDAR