BEGIN:VCALENDAR
VERSION:2.0
PRODID:-//Keysborough Equestrian Club - ECPv6.15.20//NONSGML v1.0//EN
CALSCALE:GREGORIAN
METHOD:PUBLISH
X-ORIGINAL-URL:https://kecriders.com.au
X-WR-CALDESC:Events for Keysborough Equestrian Club
REFRESH-INTERVAL;VALUE=DURATION:PT1H
X-Robots-Tag:noindex
X-PUBLISHED-TTL:PT1H
BEGIN:VTIMEZONE
TZID:UTC
BEGIN:STANDARD
TZOFFSETFROM:+0000
TZOFFSETTO:+0000
TZNAME:UTC
DTSTART:20210101T000000
END:STANDARD
END:VTIMEZONE
BEGIN:VEVENT
DTSTART;VALUE=DATE:20220528
DTEND;VALUE=DATE:20220529
DTSTAMP:20260421T050908
CREATED:20220502T053014Z
LAST-MODIFIED:20220518T044812Z
UID:5614-1653696000-1653782399@kecriders.com.au
SUMMARY:Adam Reiss
DESCRIPTION:Adam Reiss Test training or flat lesson Members $70 inc lunch Ambrosha Park agisters $100 Non members $120.00 Lunch $10.00 Choose your test and bring along a copy RSVP for lunch Venue Ambrosha Park \nMay 7th.
URL:https://kecriders.com.au/event/adam/
LOCATION:Ambrosha Park\, 207 bangholme rd\, Bangholme\, VICTORIA AUSTRALIA
ATTACH;FMTTYPE=image/jpeg:https://kecriders.com.au/wp-content/uploads/2022/05/adamreiss.jpeg
END:VEVENT
END:VCALENDAR