BEGIN:VCALENDAR
VERSION:2.0
PRODID:-//Keysborough Equestrian Club - ECPv6.15.20//NONSGML v1.0//EN
CALSCALE:GREGORIAN
METHOD:PUBLISH
X-ORIGINAL-URL:https://kecriders.com.au
X-WR-CALDESC:Events for Keysborough Equestrian Club
REFRESH-INTERVAL;VALUE=DURATION:PT1H
X-Robots-Tag:noindex
X-PUBLISHED-TTL:PT1H
BEGIN:VTIMEZONE
TZID:UTC
BEGIN:STANDARD
TZOFFSETFROM:+0000
TZOFFSETTO:+0000
TZNAME:UTC
DTSTART:20220101T000000
END:STANDARD
END:VTIMEZONE
BEGIN:VEVENT
DTSTART;VALUE=DATE:20230123
DTEND;VALUE=DATE:20230124
DTSTAMP:20260420T145321
CREATED:20230118T092755Z
LAST-MODIFIED:20230118T092857Z
UID:5650-1674432000-1674518399@kecriders.com.au
SUMMARY:Rachelle Wilson
DESCRIPTION:Jan 22nd 2023 \nWilkira Park \nRachelle Wilson \nhttps://eventsecretary.com.au/equestrian/
URL:https://kecriders.com.au/event/5626-2/
LOCATION:Wilkila Park
ORGANIZER;CN="Keysborough Equestrian Club":MAILTO:kecriders@gmail.com
END:VEVENT
END:VCALENDAR