BEGIN:VCALENDAR
VERSION:2.0
PRODID:-//Keysborough Equestrian Club - ECPv6.15.20//NONSGML v1.0//EN
CALSCALE:GREGORIAN
METHOD:PUBLISH
X-WR-CALNAME:Keysborough Equestrian Club
X-ORIGINAL-URL:https://kecriders.com.au
X-WR-CALDESC:Events for Keysborough Equestrian Club
REFRESH-INTERVAL;VALUE=DURATION:PT1H
X-Robots-Tag:noindex
X-PUBLISHED-TTL:PT1H
BEGIN:VTIMEZONE
TZID:UTC
BEGIN:STANDARD
TZOFFSETFROM:+0000
TZOFFSETTO:+0000
TZNAME:UTC
DTSTART:20230101T000000
END:STANDARD
END:VTIMEZONE
BEGIN:VEVENT
DTSTART;VALUE=DATE:20240218
DTEND;VALUE=DATE:20240219
DTSTAMP:20260419T154500
CREATED:20240129T154224Z
LAST-MODIFIED:20240130T050539Z
UID:5661-1708214400-1708300799@kecriders.com.au
SUMMARY:Dirk Dijkstra clinic at Jolong Park
DESCRIPTION:Our February clinic is with Grand Prix rider and international competitor Dirk Dijkstra at Jolong Park in Bangholme. Dirk is a domestically competing international Grand Prix dressage rider with over 40 years of experience. Previously\, he graced the arena with his Dutch Warmblood stallion\, AEA Metallic\, as well as riding Royalito in Australian Grand Prix competitions. As the driving force behind Jolong Park\, Dirk dedicates much of his day coaching riders of all levels. Influenced by the Dutch system and inspired by legends such as Anky and Sjef Van Grunsven\, Dirk adapts his coaching to the evolving landscape of modern horse breeding. Dirk is one of Australia’s top coaches\, regularly coaching both local students and going interstate for clinics. Dirk has trained many horses from Young Horses to FEI. \nImage: Stephen Bowbray
URL:https://kecriders.com.au/event/dirk-dijkstra-clinic-at-jolong-park/
LOCATION:Jolong Park\, Australia
END:VEVENT
END:VCALENDAR