BEGIN:VCALENDAR
VERSION:2.0
PRODID:-//Keysborough Equestrian Club - ECPv6.15.20//NONSGML v1.0//EN
CALSCALE:GREGORIAN
METHOD:PUBLISH
X-WR-CALNAME:Keysborough Equestrian Club
X-ORIGINAL-URL:https://kecriders.com.au
X-WR-CALDESC:Events for Keysborough Equestrian Club
REFRESH-INTERVAL;VALUE=DURATION:PT1H
X-Robots-Tag:noindex
X-PUBLISHED-TTL:PT1H
BEGIN:VTIMEZONE
TZID:UTC
BEGIN:STANDARD
TZOFFSETFROM:+0000
TZOFFSETTO:+0000
TZNAME:UTC
DTSTART:20200101T000000
END:STANDARD
END:VTIMEZONE
BEGIN:VEVENT
DTSTART;TZID=UTC:20220130T080000
DTEND;TZID=UTC:20220130T170000
DTSTAMP:20260419T223447
CREATED:20211230T113534Z
LAST-MODIFIED:20220105T230343Z
UID:5577-1643529600-1643562000@kecriders.com.au
SUMMARY:Belle Bourke Rally
DESCRIPTION:We are very excited that our first club rally for 2022 is on Sunday 30th January. It will be with the very talented and popular Belle Bourke Equestrian Services who is based at Jindarra Park in Baxter.\n\n\n\nBelle is an EA Level 1 general coach. She has a certificate IV in Training and Assessment and a Diploma of Horse Business Management. She is also an HRCAV Level Assessor.\n\n\n\nBelle spent 12 years with the Victorian Police Mounted Branch and took on the role of managing the “Horse Acquisition & Training” and “Rider Training” sections for over 6 years. She is very passionate about improving the horse and rider partnership. Belle brings with her a wealth of knowledge from working with the many breeds from her time in the Mounted Branch.\n\n\n\nCost is $70 for 45 min lesson.\n\nYards are also available at Jindarra Park.\nLocated just 800m from the Peninsula Link.\n\nPlease book here\nPlease create a login first and then you will be taken to the booking form.\n\n\n Portrait Jessica Atkins Studio
URL:https://kecriders.com.au/event/belle-bourke-rally/
LOCATION:Jindarra Park\, Baxter\, Victoria\, Australia
ATTACH;FMTTYPE=image/jpeg:https://kecriders.com.au/wp-content/uploads/2021/12/270046361_4992631740748466_8404797940267459775_n.jpg
END:VEVENT
BEGIN:VEVENT
DTSTART;VALUE=DATE:20211205
DTEND;VALUE=DATE:20211206
DTSTAMP:20260419T223447
CREATED:20211030T044713Z
LAST-MODIFIED:20211030T100814Z
UID:5566-1638662400-1638748799@kecriders.com.au
SUMMARY:Manuela McLean at Ambrosha Park
DESCRIPTION:KEC is holding our Xmas rally on Sunday 5th December with the very popular Manuela McLean.\n\n\nManuela is a NCAS Level 2 Dressage Specialist Coach and is the Co-Director of Equitation Science International. Her specialty is improving the rider’s posture and balance. She has developed multiple techniques for riders at all levels to improve their training.\n\n\nAmbrosha Park in Bangholme will be our venue for the day. Morning and Afternoon sessions will be available combining groundwork and a private lesson.\nCost $60 for a single lesson or $100 for both ground and ridden. It is your choice.\n\n\nWe will also have our Annual Club AGM at 11:30 until 12:00.\nPlease bring your cards for stamping and a Christmas Feast will be held directly after the AGM \n\n\nAs per venue rules we ask that you QR code on arrival and your double vaccination status is required.\n\nBOOK HERE
URL:https://kecriders.com.au/event/manumclean/
LOCATION:Ambrosha Park\, 207 bangholme rd\, Bangholme\, VICTORIA AUSTRALIA
ATTACH;FMTTYPE=image/jpeg:https://kecriders.com.au/wp-content/uploads/2021/10/247447052_4780551171956525_7442015462517405900_n.jpg
ORGANIZER;CN="Keysborough Equestrian Club":MAILTO:kecriders@gmail.com
END:VEVENT
BEGIN:VEVENT
DTSTART;VALUE=DATE:20210718
DTEND;VALUE=DATE:20210719
DTSTAMP:20260419T223447
CREATED:20210610T134506Z
LAST-MODIFIED:20210611T060437Z
UID:5372-1626566400-1626652799@kecriders.com.au
SUMMARY:Dirk Dijkstra Clinic at Jolong Park
DESCRIPTION:Our July clinic is with Grand Prix rider and international competitor Dirk Dijkstra at Jolong Park in Bangholme.
URL:https://kecriders.com.au/event/dirk-dijkstra/
LOCATION:Jolong Park\, Australia
ATTACH;FMTTYPE=image/jpeg:https://kecriders.com.au/wp-content/uploads/2021/06/19_bawleypoint_dijkstra_metallic_01.jpg
END:VEVENT
BEGIN:VEVENT
DTSTART;VALUE=DATE:20210620
DTEND;VALUE=DATE:20210621
DTSTAMP:20260419T223447
CREATED:20210611T060630Z
LAST-MODIFIED:20210611T060850Z
UID:5399-1624147200-1624233599@kecriders.com.au
SUMMARY:Test Training with Adam Riess and Lunch at Boneo Park
DESCRIPTION:Test Training at Boneo Park with Adam Riess.\n\n\nAdam Riess is a EA A Level Judge\, EA Young Horse Judge and a Judge Educator. He is an accomplished trainer and competitor from young horse to FEI.\nPlease see flyer below to book your spot for test training or having your test judged with feedback from Adam.\nCost is only $80 which includes lunch at Arilla Restaurant and your facility fee.\nFantastic opportunity for all members
URL:https://kecriders.com.au/event/test-training-with-adam-riess-and-lunch-at-boneo-park/
LOCATION:Victoria
ATTACH;FMTTYPE=image/jpeg:https://kecriders.com.au/wp-content/uploads/2021/06/adamreiss1.jpg
END:VEVENT
END:VCALENDAR